BEGIN:VCALENDAR
VERSION:2.0
PRODID:-//Cox Animation - ECPv6.15.20//NONSGML v1.0//EN
CALSCALE:GREGORIAN
METHOD:PUBLISH
X-ORIGINAL-URL:https://www.cox-anim.fr
X-WR-CALDESC:Évènements pour Cox Animation
REFRESH-INTERVAL;VALUE=DURATION:PT1H
X-Robots-Tag:noindex
X-PUBLISHED-TTL:PT1H
BEGIN:VTIMEZONE
TZID:Europe/Paris
BEGIN:DAYLIGHT
TZOFFSETFROM:+0100
TZOFFSETTO:+0200
TZNAME:CEST
DTSTART:20250330T010000
END:DAYLIGHT
BEGIN:STANDARD
TZOFFSETFROM:+0200
TZOFFSETTO:+0100
TZNAME:CET
DTSTART:20251026T010000
END:STANDARD
BEGIN:DAYLIGHT
TZOFFSETFROM:+0100
TZOFFSETTO:+0200
TZNAME:CEST
DTSTART:20260329T010000
END:DAYLIGHT
BEGIN:STANDARD
TZOFFSETFROM:+0200
TZOFFSETTO:+0100
TZNAME:CET
DTSTART:20261025T010000
END:STANDARD
BEGIN:DAYLIGHT
TZOFFSETFROM:+0100
TZOFFSETTO:+0200
TZNAME:CEST
DTSTART:20270328T010000
END:DAYLIGHT
BEGIN:STANDARD
TZOFFSETFROM:+0200
TZOFFSETTO:+0100
TZNAME:CET
DTSTART:20271031T010000
END:STANDARD
END:VTIMEZONE
BEGIN:VEVENT
DTSTART;TZID=Europe/Paris:20260406T110000
DTEND;TZID=Europe/Paris:20260406T160000
DTSTAMP:20260420T104433
CREATED:20260325T204812Z
LAST-MODIFIED:20260325T204815Z
UID:1637-1775473200-1775491200@www.cox-anim.fr
SUMMARY:Omelette pascale à Brignemont
DESCRIPTION:BRIGNEMONT vous donne rendez-vous pour la traditionnelle Omelette Pascale !  \n\n\n\n 11h : Chasse aux œufs** au village pour les petits gourmands  \n\n\n\n 12h30 : Repas** à la salle des fêtes  \n\n\n\n 18€ (gratuit pour les moins de 12 ans ) \n\n\n\n Animation musette avec Marc Michel– ambiance garantie !  \n\n\n\n Buvette sur place \n\n\n\n Inscription jusqu’au 29 mars inclus \n\n\n\n **07 81 01 86 23 \n\n\n\n N’oubliez pas vos couverts ! \n\n\n\nVenez nombreux partager ce moment convivial au cœur du village !  \n\n\n\n⚠️ LUNDI DE PÂQUES – 6 AVRIL ⚠️… – Comité des Fêtes de Brignemont
URL:https://www.cox-anim.fr/evenement/omelette-pascale-a-brignemont/
CATEGORIES:Repas
ATTACH;FMTTYPE=image/jpeg:https://www.cox-anim.fr/wp-content/uploads/2026/03/omelette.jpg
END:VEVENT
BEGIN:VEVENT
DTSTART;TZID=Europe/Paris:20260406T120000
DTEND;TZID=Europe/Paris:20260406T170000
DTSTAMP:20260420T104433
CREATED:20260325T211006Z
LAST-MODIFIED:20260325T211011Z
UID:1655-1775476800-1775494800@www.cox-anim.fr
SUMMARY:Omelette Pascale à Cabanac-Séguenville
DESCRIPTION:
URL:https://www.cox-anim.fr/evenement/omelette-pascale-a-cabanac-seguenville/
CATEGORIES:Repas
ATTACH;FMTTYPE=image/jpeg:https://www.cox-anim.fr/wp-content/uploads/2026/03/651194664_919900414020730_2224077154291849342_n.jpg
END:VEVENT
BEGIN:VEVENT
DTSTART;TZID=Europe/Paris:20260406T123000
DTEND;TZID=Europe/Paris:20260406T170000
DTSTAMP:20260420T104433
CREATED:20260325T210808Z
LAST-MODIFIED:20260325T210810Z
UID:1652-1775478600-1775494800@www.cox-anim.fr
SUMMARY:Omelette Pascale à Lagraulet-Saint-Nicolas
DESCRIPTION:
URL:https://www.cox-anim.fr/evenement/omelette-pascale-a-lagraulet-saint-nicolas-2/
CATEGORIES:Repas
ATTACH;FMTTYPE=image/jpeg:https://www.cox-anim.fr/wp-content/uploads/2026/03/651331226_956259293596448_1438643596783237328_n.jpg
END:VEVENT
END:VCALENDAR